BEGIN:VCALENDAR
VERSION:2.0
PRODID:-//eventon.com NONSGML v1.0//EN
CALSCALE:GREGORIAN
METHOD:PUBLISH
BEGIN:VEVENT
UID:69e74a2b7689a
DTSTAMP:20260421T095803Z
DTSTART:20240305T110000Z
DTEND:20240305T120000Z
LOCATION:
SUMMARY:Multidisipliner Diyetisyenlik
DESCRIPTION:Kırklareli Üniversitesi Kariyer Uygulama ve Araştırma Merke
 zi tarafından gerçekleşecek etkinlikte diyetisyenlik kariyeri üzerinde 
 konuşma yapılacaktır. Detaylar için bize ulaşabilirsiniz. Konuşmacı 
 Eat Clean Aslıhan Elmas\nhttps://eatcleanturkey.com/events/multidisipliner
 -diyetisyenlik
URL:https://eatcleanturkey.com/events/multidisipliner-diyetisyenlik
END:VEVENT
END:VCALENDAR